BEGIN:VCALENDAR
VERSION:2.0
PRODID:-//Hammerburg Falken - ECPv6.0.10//NONSGML v1.0//EN
CALSCALE:GREGORIAN
METHOD:PUBLISH
X-WR-CALNAME:Hammerburg Falken
X-ORIGINAL-URL:http://hammerburg-falken.de
X-WR-CALDESC:Veranstaltungen für Hammerburg Falken
REFRESH-INTERVAL;VALUE=DURATION:PT1H
X-Robots-Tag:noindex
X-PUBLISHED-TTL:PT1H
BEGIN:VTIMEZONE
TZID:Europe/Berlin
BEGIN:DAYLIGHT
TZOFFSETFROM:+0100
TZOFFSETTO:+0200
TZNAME:CEST
DTSTART:20190331T010000
END:DAYLIGHT
BEGIN:STANDARD
TZOFFSETFROM:+0200
TZOFFSETTO:+0100
TZNAME:CET
DTSTART:20191027T010000
END:STANDARD
BEGIN:DAYLIGHT
TZOFFSETFROM:+0100
TZOFFSETTO:+0200
TZNAME:CEST
DTSTART:20200329T010000
END:DAYLIGHT
BEGIN:STANDARD
TZOFFSETFROM:+0200
TZOFFSETTO:+0100
TZNAME:CET
DTSTART:20201025T010000
END:STANDARD
BEGIN:DAYLIGHT
TZOFFSETFROM:+0100
TZOFFSETTO:+0200
TZNAME:CEST
DTSTART:20210328T010000
END:DAYLIGHT
BEGIN:STANDARD
TZOFFSETFROM:+0200
TZOFFSETTO:+0100
TZNAME:CET
DTSTART:20211031T010000
END:STANDARD
BEGIN:DAYLIGHT
TZOFFSETFROM:+0100
TZOFFSETTO:+0200
TZNAME:CEST
DTSTART:20220327T010000
END:DAYLIGHT
BEGIN:STANDARD
TZOFFSETFROM:+0200
TZOFFSETTO:+0100
TZNAME:CET
DTSTART:20221030T010000
END:STANDARD
BEGIN:DAYLIGHT
TZOFFSETFROM:+0100
TZOFFSETTO:+0200
TZNAME:CEST
DTSTART:20230326T010000
END:DAYLIGHT
BEGIN:STANDARD
TZOFFSETFROM:+0200
TZOFFSETTO:+0100
TZNAME:CET
DTSTART:20231029T010000
END:STANDARD
BEGIN:DAYLIGHT
TZOFFSETFROM:+0100
TZOFFSETTO:+0200
TZNAME:CEST
DTSTART:20240331T010000
END:DAYLIGHT
BEGIN:STANDARD
TZOFFSETFROM:+0200
TZOFFSETTO:+0100
TZNAME:CET
DTSTART:20241027T010000
END:STANDARD
END:VTIMEZONE
BEGIN:VEVENT
DTSTART;VALUE=DATE:20240809
DTEND;VALUE=DATE:20240812
DTSTAMP:20260420T070300
CREATED:20240120T191243Z
LAST-MODIFIED:20240120T191351Z
UID:1853-1723161600-1723420799@hammerburg-falken.de
SUMMARY:Wikingertage Schleswig 2024
DESCRIPTION:Besuchen Sie uns auf einer der größten Wikingerveranstaltungen Europas.\nDie Wikingertage\, seit über 20 Jahren in Schleswig\, sind immer eine Reise wert.\nDie Hammerburg Falken schlagen Ihre Zelte auf den Königswiesen in Schleswig auf. \n\nEin fröhliches Fest für die ganze Familie\, direkt am Ufer des Ostseefjords Schlei.\nWikingerdorf mit großer Kampfarena und spektakulären Wikingerschaukämpfen.\nGaukler- und Feuershows\, Bogenturnier\, Handwerkervorführungen\, Wikingerschiffe\,\nKinderwikingerdorf und viel Musik. Neben den bestehenden Programmhighlights  wird es bestimmt weitere Überraschungen geben.\nTauchen Sie ein in die faszinierende Welt der legendären Nordmänner.
URL:http://hammerburg-falken.de/event/wikingertage-schleswig-2024/
LOCATION:Wikingertage Schleswig\, Stadtpark Königswiesen (ehemaliges Gelände der Landesgartenschau 2008)\, Schleswig\, 24837\, Deutschland
ATTACH;FMTTYPE=image/jpeg:http://hammerburg-falken.de/wp-content/uploads/2023/02/Wikingertage-Schleswig.jpg
END:VEVENT
BEGIN:VEVENT
DTSTART;VALUE=DATE:20240622
DTEND;VALUE=DATE:20240624
DTSTAMP:20260420T070300
CREATED:20240203T181510Z
LAST-MODIFIED:20240203T181510Z
UID:1869-1719014400-1719187199@hammerburg-falken.de
SUMMARY:Mittelalter Erlebnismarkt Birkenwiese
DESCRIPTION:Im beschaulichen Braak\, vor den Toren Hamburgs wird es wieder schön mittelalterlich! \nDer 2. Markt in Braak steht dieses Jahr an und der Veranstalter hat Großes vor. Freut euch auf einen Markt mit vielen köstlichen Gaumenfreuden\, Musik und allerhand Spektakel. Und ganz viel Atmosphäre! Das dürft ihr nbicht verpassen!
URL:http://hammerburg-falken.de/event/mittelalter-erlebnismarkt-birkenwiese/
LOCATION:Birkenwiese 2\, 22145 Braak\, Birkenwiese 2\, Braak\, 22145
ATTACH;FMTTYPE=image/jpeg:http://hammerburg-falken.de/wp-content/uploads/2024/02/MEMB-Logo-New-1-2-300x207-1.jpg
END:VEVENT
BEGIN:VEVENT
DTSTART;VALUE=DATE:20240509
DTEND;VALUE=DATE:20240513
DTSTAMP:20260420T070300
CREATED:20240120T194044Z
LAST-MODIFIED:20240120T194044Z
UID:1861-1715212800-1715558399@hammerburg-falken.de
SUMMARY:Wikinger in Eekholt
DESCRIPTION:Erleben Sie den frühmittelalterlichen Markt und das Lagerleben auf den Osterauwiesen im Wildpark Eekholt. \nBei diesem idyllischen Wikingermarkt wird Ihnen und Ihren Kindern einiges geboten. Mitten im Lagerleben der Wikinger bieten zahlreiche Händler und Handwerker ihre Waren an. Schauen Sie dem Schmied über die Schulter oder legen Sie beim Wippholzdrechsler selbst Hand an. Testen Sie Ihr Können auch beim Axtwurf\, Bogenschießen oder Kerzenziehen und genießen Sie die frühmittelalterliche Atmosphäre. Zudem werden weitere Attraktionen\, wie z. B. Schaukämpfe und eine Waffenschau für Groß und Klein geboten. \nDie Mittelalterband „Die Vertriebenen“ sorgt für die passende Stimmung. Seit Jahren sind die Spielleute mit ihren Instrumenten ein fester Bestandteil des Marktes. Mit schwungvoller Musik\, Selbstironie\, Wortwitz und Interaktion mit dem Publikum vertreiben sie Ihnen gerne die Zeit. \nFürs leibliche Wohl bekommen Sie bei unseren Markständen allerlei Speis & Trank und kleine Hobbybäcker können sich selbst ein Stockbrot backen. \nBeim Rundgang durch den Wildpark passieren Sie\, ohne zusätzlichen Wegezoll\, die Osterauwiesen und werden Teil des Wikingermarktes. \nKommen Sie vorbei und erleben Sie das einmalige Flair der Wikinger in Eekholt!
URL:http://hammerburg-falken.de/event/wikinger-in-eekholt-2/
LOCATION:Wildpark Eekholt\, Eekholt 1\, Großenaspe\, 24623\, Deutschland
ATTACH;FMTTYPE=image/gif:http://hammerburg-falken.de/wp-content/uploads/2024/01/logo_nav.gif
END:VEVENT
BEGIN:VEVENT
DTSTART;TZID=Europe/Berlin:20240210T180000
DTEND;TZID=Europe/Berlin:20240210T230000
DTSTAMP:20260420T070300
CREATED:20240120T193218Z
LAST-MODIFIED:20240120T193404Z
UID:1857-1707588000-1707606000@hammerburg-falken.de
SUMMARY:Julfest
DESCRIPTION:Unser Neujahrsfest im geselligen Rahmen\, nur für Falken. \n \nAI generated picture licensed under Creative Commons CC BY 4.0 Deed (https://pixexid.com/image/christmas-tree-with-santa-in-the-snow-wimrxdyr)\n 
URL:http://hammerburg-falken.de/event/julfest/
END:VEVENT
BEGIN:VEVENT
DTSTART;TZID=Europe/Berlin:20230819T110000
DTEND;TZID=Europe/Berlin:20230820T170000
DTSTAMP:20260420T070300
CREATED:20230305T185424Z
LAST-MODIFIED:20230305T185424Z
UID:1673-1692442800-1692550800@hammerburg-falken.de
SUMMARY:Schlacht bei Wallsbüll 2023
DESCRIPTION:Schlacht bei Wallsbüll 2023\n \nJedes Jahr am dritten August-Wochenende findet der Großer Wikingermarkt in Wallbüll statt. \nNeben den zahlreichen Handwerkern und Händler wird es auch wieder die Kampfvorführungen von wackeren Wikingerkriegern geben. \nSelbstverständlich werden auch verschiedene Mitmach-Aktivitäten für Groß und Klein angeboten.\nUnd für das leibliche Wohl wird auch gesorgt. Essen und Trinken erhalten Sie wie immer für wenige Taler.
URL:http://hammerburg-falken.de/event/schlacht-bei-wallsbuell-2023/
LOCATION:Schlacht bei Walsbüll\, Hooge Ackern\, Wallsbüll\, Schleswig Holstein\, 24980\, Deutschland
END:VEVENT
BEGIN:VEVENT
DTSTART;TZID=Europe/Berlin:20230811T120000
DTEND;TZID=Europe/Berlin:20230813T190000
DTSTAMP:20260420T070300
CREATED:20230223T141133Z
LAST-MODIFIED:20230227T190257Z
UID:1656-1691755200-1691953200@hammerburg-falken.de
SUMMARY:Wikingertage Schleswig 2023
DESCRIPTION:Hunderte Wikinger laden ein zur größten Wikingerveranstaltung des Nordens\n  \n++ Wikingerkultur hautnah erleben ++\nSpektakuläres Wikingerfest für die ganze Familie\, in Sichtweite Haithabus\, dem UNESCO Weltkulturerbe\nWikingerdorf mit großer Kampfarena und mehrmals täglich stattfindenden Wikingerschaukämpfen ++\nGaukler- und Musikanten ++ Wikingerschiffe ++ Kinderwikinger-dorf ++ zeitgenössische Gastronomie ++ u.v.m.\n\nDie Wikingertage zählen zu einer der größten Wikinger – & Familienveranstaltungen des Nordens.\nUnzählige Nordmänner von Heute verwandeln vom 11. – 13. August die Königswiesen in Schleswig\, am Ufer der Schlei in Sichtweite Haithabus (dem UNESCO Weltkulturerbe)\, in eine große Wikingersiedlung.\nAm Freitag dem 11.8.23 um 12:00 Uhr öffnen die Tore der Wikingertage in Schleswig.
URL:http://hammerburg-falken.de/event/wikingertage-schleswig-2023/
LOCATION:Wikingertage Schleswig\, Stadtpark Königswiesen (ehemaliges Gelände der Landesgartenschau 2008)\, Schleswig\, 24837\, Deutschland
ATTACH;FMTTYPE=image/jpeg:http://hammerburg-falken.de/wp-content/uploads/2023/02/Wikingertage-Schleswig.jpg
END:VEVENT
BEGIN:VEVENT
DTSTART;TZID=Europe/Berlin:20230728T100000
DTEND;TZID=Europe/Berlin:20230730T180000
DTSTAMP:20260420T070300
CREATED:20230305T184823Z
LAST-MODIFIED:20230305T184849Z
UID:1668-1690538400-1690740000@hammerburg-falken.de
SUMMARY:Mittelalterlager Waabs
DESCRIPTION:Auf dem Ostsee-Campingplatz Familie Heide in Klein Waabs wird für ein Wochenende die Zeit zurück gedreht. Auch 2023 findet hier das Wikingerlager statt. \n \nDie Spiel- und Freizeitwiese des Campingplatzes bildet den Schauplatz für Handwerker\, Händler und Gaukler. Sie präsentieren ihre Waren und Künste und zeigen\, wie es sich vor Jahrhunderten lebte und arbeitete.\nViele Attraktionen sorgen für ein kurzweiliges und spannendes Wochenende\, und dann ist da ja auch noch die Ostsee\, nur einen Steinwurf von der Lagerwiese entfernt.
URL:http://hammerburg-falken.de/event/mittelalterlager-waabs/
LOCATION:Wikingerlager Waabs\, Strandweg 31\, Klein Waabs\, 24369
END:VEVENT
BEGIN:VEVENT
DTSTART;TZID=Europe/Berlin:20230708T100000
DTEND;TZID=Europe/Berlin:20230709T190000
DTSTAMP:20260420T070300
CREATED:20230228T140344Z
LAST-MODIFIED:20230228T140344Z
UID:1670-1688810400-1688929200@hammerburg-falken.de
SUMMARY:Mittelaltermarkt Tydal
DESCRIPTION:Der Verein Zeytreyse e.V. veranstaltet auch 2023 seinen „Mittelaltermarkt nebst Heerlagerey“ in Tydal. \nViele verschiedene Mittelaltergruppen entführen die Besucher in die Zeit des Mittelalters. Handwerker und Händler bieten ihre Waren feil und diverse Attraktionen sorgen für Kurzweil bei den Besuchern. Ein herrlicher Markt\, fernab vom Trubel. Kommt vorbei\, es lohnt sich!
URL:http://hammerburg-falken.de/event/mittelaltermarkt-tydal/
LOCATION:Mittelaltermarkt nebst Heerlagerey in Tydal\, Pfadfinderlager Tydal\, Eggebek\, 24852\, Deutschland
ATTACH;FMTTYPE=image/jpeg:http://hammerburg-falken.de/wp-content/uploads/2023/02/Tydal.jpg
ORGANIZER;CN="Zeytreise.ev":MAILTO:Zeytreyse@t-online.de
END:VEVENT
BEGIN:VEVENT
DTSTART;VALUE=DATE:20230701
DTEND;VALUE=DATE:20230703
DTSTAMP:20260420T070300
CREATED:20230531T110603Z
LAST-MODIFIED:20230531T110603Z
UID:1750-1688169600-1688342399@hammerburg-falken.de
SUMMARY:Catzenelnbogener Ritterspiele 2023
DESCRIPTION:Die diesjährigen neuen Ausrichter „Knappenschule-Events“ haben sich viele Gedanken gemacht\, um die Veranstaltung noch attraktiver und vielseitiger zu gestalten ohne aber auf Bewährtes zu verzichten. \nEs gibt natürlich wieder die Ritterturniere mit einer Erzählung aus der historischen Katzenelnbogener Geschichte. \nDas Turnier-Spektakel mit vielen Effekten wird mit unterschiedlichen Geschichten\, die aber jeweils eine abgeschlossene Episode sind\, 2 mal täglich stattfinden. Kinder können auch auf Ponys beim Kinderritterturnier selbst die Exerzitien der Geschicklichkeit ausprobieren und erhalten sogar eine Urkunde. \nAußerdem präsentiert die Reiter-Gruppe ein Märchen-Feuerspektakel auf Pferden am Samstag Abend. \nAuf 2 Bühnen gibt es ein abwechslungsreiches Programm mit vielen Gauklern\, Zauberei und Puppenspiel und am Abend ein großes Feuer-Tavernenspiel mit allen Künstlern und einer Top-Band. \nLauschet der Märchenerzählerin in ihrem Zelt – spannende und lustige Geschichten erwarten euch. In der Knappenschule können Kids mit „echten“ Metallschwertern den Schwertkampf erlernen. \nMehrere Musik-Gruppen und Einzel-Spielleute unterhalten das Volk nicht nur auf der Bühne\, sondern auch in den Tavernen. Für hungrige Besucher gibt es unterschiedliche Speisenangebote für Jedermann. Händler mit einem großen Warenangebot mit Gewandung\, Lederwaren\, Schmuckstücken\, Kinder-Rüstkammern und vielem mehr. Beim Zeidler gibt es feinsten Honig\, an anderen Ständen schöne Seifen oder Räucherwerk für erlesene Düfte im Haus oder um böse Geister zu vertreiben. \nSpiel-Aktionen für Klein und Groß\, handbetriebene Karussells\, ein hölzernes Riesenrad und Bastelaktionen für Kids bringen großen Spaß. Oder stellt Eure Geschicklichkeit unter Beweis beim Axtwerfen\, Armbrust- und Bogenschießen. \nEs wird außerdem eine Falkner-Flugschau geboten sowie Ritterkämpfe in allen Ecken auf dem großen Festgelände. \nEinmal täglich ist auf der großen Turnierwiese eine „Schlacht“ – Kinder gegen Ritter – geplant. \nFür die jungen Besucher gibt es täglich ein „Gewinn-Such-Spiel“ mit attraktiven Preisen\, die Teilnahme daran ist kostenlos. Wir wünschen jetzt schon viel Freude beim Suchen und Gewinnen. \nSchaut wie Handwerker längst vergangene Gewerke zeigen. Erfahrt beim Bogenbauer die Kunst des Bogenbaus oder schaut dem Schmied bei seiner Arbeit zu und greift auch mal selbst zum Hammer. \nAuch den Blick in die Zukunft könnt Ihr wagen\, Kartenlegen\, Runen-Zauber und sogar Ahnen-Kontakte werden geboten. \nDarüber hinaus gibt es zahlreiche Lager-Gruppen\, von der Wikingerzeit bis hin zum Spätmittelater\, die dem Publikum vieles aus der alten Zeit zeigen. Das ist Geschichte zum Anfassen und Erleben. \nDie Catzenelnbogener Ritterspiele – das ist Erlebnis und Unterhaltung pur.
URL:http://hammerburg-falken.de/event/catzenelnbogener-ritterspiele-2023/
END:VEVENT
BEGIN:VEVENT
DTSTART;TZID=Europe/Berlin:20230518T110000
DTEND;TZID=Europe/Berlin:20230521T170000
DTSTAMP:20260420T070300
CREATED:20230305T185934Z
LAST-MODIFIED:20230305T185934Z
UID:1666-1684407600-1684688400@hammerburg-falken.de
SUMMARY:Wikinger in Eekholt
DESCRIPTION:Erleben Sie den frühmittelalterlichen Markt und das Lagerleben auf den Osterauwiesen im Wildpark Eekholt. \nBei diesem idyllischen Wikingermarkt wird Ihnen und Ihren Kindern einiges geboten. Mitten im Lagerleben der Wikinger bieten zahlreiche Händler und Handwerker ihre Waren an. Schauen Sie dem Schmied über die Schulter oder legen Sie beim Wippholzdrechsler selbst Hand an. Testen Sie Ihr Können auch beim Axtwurf\, Bogenschießen oder Kerzenziehen und genießen Sie die frühmittelalterliche Atmosphäre. Zudem werden weitere Attraktionen\, wie z. B. Schaukämpfe und eine Waffenschau für Groß und Klein geboten. \nDie Mittelalterband „Die Vertriebenen“ sorgt für die passende Stimmung. Seit Jahren sind die Spielleute mit ihren Instrumenten ein fester Bestandteil des Marktes. Mit schwungvoller Musik\, Selbstironie\, Wortwitz und Interaktion mit dem Publikum vertreiben sie Ihnen gerne die Zeit. \nFürs leibliche Wohl bekommen Sie bei unseren Markständen allerlei Speis & Trank und kleine Hobbybäcker können sich selbst ein Stockbrot backen. \nBeim Rundgang durch den Wildpark passieren Sie\, ohne zusätzlichen Wegezoll\, die Osterauwiesen und werden Teil des Wikingermarktes. \nKommen Sie vorbei und erleben Sie das einmalige Flair der Wikinger in Eekholt!
URL:http://hammerburg-falken.de/event/wikinger-in-eekholt/
LOCATION:Wildpark Eekholt\, Eekholt 1\, Großenaspe\, 24623\, Deutschland
END:VEVENT
BEGIN:VEVENT
DTSTART;VALUE=DATE:20220526
DTEND;VALUE=DATE:20220530
DTSTAMP:20260420T070300
CREATED:20170105T152815Z
LAST-MODIFIED:20210306T211443Z
UID:155-1653523200-1653868799@hammerburg-falken.de
SUMMARY:Wikinger in Eekholt
DESCRIPTION:Erleben Sie den frühmittelalterlichen Markt und das Lagerleben auf den Osterauwiesen im Wildpark Eekholt. \nBei diesem idyllischen Wikingermarkt wird Ihnen und Ihren Kindern einiges geboten. Mitten im Lagerleben der Wikinger bieten zahlreiche Händler und Handwerker ihre Waren an. Schauen Sie dem Schmied über die Schulter oder legen Sie beim Wippholzdrechsler selbst Hand an. Testen Sie Ihr Können auch beim Axtwurf\, Bogenschießen oder Kerzenziehen und genießen Sie die frühmittelalterliche Atmosphäre. Zudem werden weitere Attraktionen\, wie z. B. Schaukämpfe und eine Waffenschau für Groß und Klein geboten. \nDie Mittelalterband „Die Vertriebenen“ sorgt für die passende Stimmung. Seit Jahren sind die Spielleute mit ihren Instrumenten ein fester Bestandteil des Marktes. Mit schwungvoller Musik\, Selbstironie\, Wortwitz und Interaktion mit dem Publikum vertreiben sie Ihnen gerne die Zeit. \nFürs leibliche Wohl bekommen Sie bei unseren Markständen allerlei Speis & Trank und kleine Hobbybäcker können sich selbst ein Stockbrot backen. \nBeim Rundgang durch den Wildpark passieren Sie\, ohne zusätzlichen Wegezoll\, die Osterauwiesen und werden Teil des Wikingermarktes. \nKommen Sie vorbei und erleben Sie das einmalige Flair der Wikinger in Eekholt!
URL:http://hammerburg-falken.de/event/eekholt/
LOCATION:Wildpark Eekholt\, Eekholt 1\, Großenaspe\, 24623\, Deutschland
END:VEVENT
BEGIN:VEVENT
DTSTART;VALUE=DATE:20210821
DTEND;VALUE=DATE:20210823
DTSTAMP:20260420T070300
CREATED:20170106T104330Z
LAST-MODIFIED:20210209T144715Z
UID:195-1629504000-1629676799@hammerburg-falken.de
SUMMARY:Elb-Spectaculum zu Stove
DESCRIPTION:Das schöne parkähnliche Gelände direkt am Ufer der Elbe bietet ein tolles Ambiente um es in ein mittelalterliches Dorf zu verwandeln. \nFür gute Laune sorgen die Spielleute von Waldkauz\, Die Vertriebenen\, MacCabe & Kanaka\, sowie\nder Zauberer Robert Blake. Es gibt Gaukelei und Kampfvorführungen. Zahlreiche Händler und  Handwerker bieten ihre Waren an. Tavernen\, gemütlichen Schenken\, Bratereien\, Suppen – und Garküchen laden zum Verweilen ein. Großer Lichterumzug mit über 100 Fackeln und eine tolle Feuershow.\nViele Attraktionen für Groß und Klein.
URL:http://hammerburg-falken.de/event/elb-spectaculum-zu-stove/
LOCATION:Elb-Spectaculum zu Stove\, Stover Strand 7\, Drage/Winsen (Luhe)\, 21423 \, Deutschland
END:VEVENT
BEGIN:VEVENT
DTSTART;VALUE=DATE:20210805
DTEND;VALUE=DATE:20210809
DTSTAMP:20260420T070300
CREATED:20170106T104755Z
LAST-MODIFIED:20210209T144809Z
UID:199-1628121600-1628467199@hammerburg-falken.de
SUMMARY:Wikingertage Schleswig
DESCRIPTION:Besuchen Sie uns auf einer der größten Wikingerveranstaltungen Europas.\nDie Wikingertage\, seit über 20 Jahren in Schleswig\, sind immer eine Reise wert.\nDie Hammerburg Falken schlagen Ihre Zelte auf den Königswiesen in Schleswig auf. \n\nEin fröhliches Fest für die ganze Familie\, direkt am Ufer des Ostseefjords Schlei.\nWikingerdorf mit großer Kampfarena und spektakulären Wikingerschaukämpfen.\nGaukler- und Feuershows\, Bogenturnier\, Handwerkervorführungen\, Wikingerschiffe\,\nKinderwikingerdorf und viel Musik. Neben den bestehenden Programmhighlights  wird es bestimmt weitere Überraschungen geben.\nTauchen Sie ein in die faszinierende Welt der legendären Nordmänner.
URL:http://hammerburg-falken.de/event/wikingertage-schleswig/
LOCATION:Wikingertage Schleswig\, Stadtpark Königswiesen (ehemaliges Gelände der Landesgartenschau 2008)\, Schleswig\, 24837\, Deutschland
END:VEVENT
BEGIN:VEVENT
DTSTART;VALUE=DATE:20210724
DTEND;VALUE=DATE:20210726
DTSTAMP:20260420T070300
CREATED:20181210T205430Z
LAST-MODIFIED:20210209T144851Z
UID:1225-1627084800-1627257599@hammerburg-falken.de
SUMMARY:Wikingerlager Waabs
DESCRIPTION:Auf dem Ostsee-Campingplatz Familie Heide in Klein Waabs wird für ein Wochenende die Zeit zurück gedreht. Zum zweiten Mal findet hier das Wikingerlager statt. \n \nDie Spiel- und Freizeitwiese des Campingplatzes bildet den Schauplatz für Handwerker\, Händler und Gaukler. Sie präsentieren ihre Waren und Künste und zeigen\, wie es sich vor Jahrhunderten lebte und arbeitete.\nViele Attraktionen sorgen für ein kurzweiliges und spannendes Wochenende\, und dann ist da ja auch noch die Ostsee\, nur einen Steinwurf von der Lagerwiese entfernt.
URL:http://hammerburg-falken.de/event/wikingerlager-waabs/
LOCATION:Ostsee-Campingplatz Familie Heide\, Strandweg 31\, Klein Waabs\, 24369
END:VEVENT
BEGIN:VEVENT
DTSTART;VALUE=DATE:20190803
DTEND;VALUE=DATE:20190805
DTSTAMP:20260420T070300
CREATED:20170202T004245Z
LAST-MODIFIED:20181114T230046Z
UID:500-1564790400-1564963199@hammerburg-falken.de
SUMMARY:Mittelaltermarkt nebst Heerlagerey in Tydal
DESCRIPTION:Der Verein Zeytreyse e.V. veranstaltet zum 9. Mal seinen „Mittelaltermarkt nebst Heerlagerey“ in Tydal. \nViele verschiedene Mittelaltergruppen entführen die Besucher in die Zeit des Mittelalters. Handwerker und Händler bieten ihre Waren feil und diverse Attraktionen sorgen für Kurzweil bei den Besuchern.
URL:http://hammerburg-falken.de/event/mittelaltermarkt-nebst-heerlagerey-in-tydal/
LOCATION:Mittelaltermarkt nebst Heerlagerey in Tydal\, Pfadfinderlager Tydal\, Eggebek\, 24852\, Deutschland
END:VEVENT
BEGIN:VEVENT
DTSTART;VALUE=DATE:20190712
DTEND;VALUE=DATE:20190715
DTSTAMP:20260420T070300
CREATED:20190116T231125Z
LAST-MODIFIED:20190116T231125Z
UID:1279-1562889600-1563148799@hammerburg-falken.de
SUMMARY:Wikingertage Eckernförde
DESCRIPTION:Die Wikingertage gehen in Abstimmung mit dem Stadtmanagement Schleswigs „als Botschafter Schleswigs“ 2019 auf Tour und werden erstmalig vom 12. – 14. Juli 2019 in Eckernförde\, am Südstrand direkt an der Förde\, stattfinden. \nWie in Schleswig können die Gäste auch hier ein Fest für die ganze Familie\, direkt am Ufer der Eckernförder Bucht\, erwarten. Wikinger aus ganz Europa werden den Südstrand in eine große Wikingersiedlung verwandeln. \nDrei Tage lang können dann kleine und große Wiki-Fans unter dem Motto „Feiern wie die Wikinger“ in die faszinierende Welt der legendären Nordmänner eintauchen. \nIm Zentrum der Veranstaltung steht (wie in Schleswig) ein Wikingerdorf. Zahlreiche Handwerker und Händler laden im Wikingerdorf zu einer Zeitreise in die Vergangenheit ein. Ob Waffenschmiede\, Kettenhemdherstellung\, Messermacherei\, Trinkhornschleiferei\, Pfeil- und Bogenbau Drechslerei\, klassische Schmiede\, Steinmetz\, Bogenbauer\, Lederer\, Schildbauer\, Färberei oder Lehmofen-Bäckerei: In der Wikingerwelt können alle kleinen und großen Besucher den Stand der Handwerkskunst sehen\, erleben\, selbst mit werkeln und sich von der Atmosphäre des großen Dorfes in die Wikingerzeit von vor 1000 Jahren entführen lassen oder beim Bogenturnier\, Speer- und Axtwerfen ihre eigene Geschicklichkeit austesten. Auf dem Thing Platz in der Mitte des Dorfes\, welcher zum Verweilen einlädt\, finden verschiedensten Wikingeraktionen wie Axtnageln\, Handwerksshows\, neue sehr unterhaltsame Animationen und Feuershows inmitten der Gäste statt.\nDirekt am Strand werden mehrmals täglich Kämpfer spektakuläre Wikingerkämpfe austragen und auch die Nachwuchs-Wikinger kommen bei den Wikingertagen auf ihre Kosten\, im Wikingerdorf für Kinder können kleine Besucher auf eine spannende Abenteuer-Reise in die Welt der Wikinger gehen.
URL:http://hammerburg-falken.de/event/wikingertage-eckernfoerde/
LOCATION:Wikingertage Eckernförde\, Südstrand\, Eckernförde\, 24340
END:VEVENT
BEGIN:VEVENT
DTSTART;VALUE=DATE:20190706
DTEND;VALUE=DATE:20190708
DTSTAMP:20260420T070300
CREATED:20170112T011011Z
LAST-MODIFIED:20181114T225728Z
UID:431-1562371200-1562543999@hammerburg-falken.de
SUMMARY:Mittelaltermarkt Kropp
DESCRIPTION:Die Familie Petersen lädt die Wikinger zum Heerlager zu Kropp\, auf dem Gelände neben dem Schwimmbad. \nWährend der Kampfvorführungen erwarten die Krieger zahlreiche Gäste\, denen sie ihr Können präsentieren. Doch auch für friedfertigen Zeitvertreib ist gesorgt. Ob Zauberer\, Bettler oder mittelalterliche Musik\, ob Speer- und Axtwurf\, Bogenschießen oder Feuershow\, Kurzweil wird geboten.\nErleben Sie bei Fladenbrot\, Apfelringen\, Räucherfisch und Met eine einmalige Atmosphäre inmitten von Kämpfern\, Händlern und Handwerkern.
URL:http://hammerburg-falken.de/event/mittelaltermarkt-kropp/
LOCATION:Mittelaltermarkt Kropp\, Am Schwimmbad       \, Kropp\, 24848  \, Deutschland
END:VEVENT
BEGIN:VEVENT
DTSTART;VALUE=DATE:20190621
DTEND;VALUE=DATE:20190624
DTSTAMP:20260420T070300
CREATED:20181114T224151Z
LAST-MODIFIED:20181114T225843Z
UID:1213-1561075200-1561334399@hammerburg-falken.de
SUMMARY:Markttreyberey im Flecken Bramstede
DESCRIPTION:Hoch zu Ross und auf Schusters Rappen hält das nordische Marktvolk erneut Einzug in Bad Bramstedt. Im Juni werden wieder Handwerker und Händler\, Musikanten und Gaukler\, Tavernen und Brätereien\, Ritter und edle Maiden\, einfaches Volk und kriegerische Wikinger ihre Zelte und Stände auf der Schlosswiese zu Bad Bramstedt aufbauen. Lasst Euch in den Bann vergangener Jahrhunderte ziehen. Lasst Euch verzaubern von „Janas tanzenden Flammen“\, die Ohren betäuben von „Nae Borrás Trommelschlag und Sackgepfeife“\, staunet über die Künste von Ross und Reiter\, bejubelt die Kämpfer auf dem Schlachtfeld\, nehmet teil an Puppentheater\, Kinder-Ritterspiel oder Bogenschießen und fresset und saufet bis das Euch der Wams platzen möge. Dieses\, die Hammerburg Falken\, und vieles mehr wird Euch erwarten.
URL:http://hammerburg-falken.de/event/markttreyberey-im-flecken-bramstede/
END:VEVENT
END:VCALENDAR